BEGIN:VCALENDAR
VERSION:2.0
PRODID:-//Medisysinc.com - ECPv6.13.0//NONSGML v1.0//EN
CALSCALE:GREGORIAN
METHOD:PUBLISH
X-ORIGINAL-URL:https://medisysinc.com
X-WR-CALDESC:Events for Medisysinc.com
REFRESH-INTERVAL;VALUE=DURATION:PT1H
X-Robots-Tag:noindex
X-PUBLISHED-TTL:PT1H
BEGIN:VTIMEZONE
TZID:America/Chicago
BEGIN:DAYLIGHT
TZOFFSETFROM:-0600
TZOFFSETTO:-0500
TZNAME:CDT
DTSTART:20270314T080000
END:DAYLIGHT
BEGIN:STANDARD
TZOFFSETFROM:-0500
TZOFFSETTO:-0600
TZNAME:CST
DTSTART:20271107T070000
END:STANDARD
BEGIN:DAYLIGHT
TZOFFSETFROM:-0600
TZOFFSETTO:-0500
TZNAME:CDT
DTSTART:20280312T080000
END:DAYLIGHT
BEGIN:STANDARD
TZOFFSETFROM:-0500
TZOFFSETTO:-0600
TZNAME:CST
DTSTART:20281105T070000
END:STANDARD
END:VTIMEZONE
BEGIN:VEVENT
DTSTART;TZID=America/Chicago:20270915T120000
DTEND;TZID=America/Chicago:20270915T130000
DTSTAMP:20260420T072921
CREATED:20241230T173252Z
LAST-MODIFIED:20241230T173252Z
UID:16482-1821009600-1821013200@medisysinc.com
SUMMARY:HLA Meeting\, Opelika AL
DESCRIPTION:
URL:https://medisysinc.com/event/hla-meeting-opelika-al/2027-09-15/
LOCATION:Saugahatchee Country Club\, 3800 Bent Creek Rd\, Opelika\, AL\, 36804\, United States
CATEGORIES:Industry Events
END:VEVENT
BEGIN:VEVENT
DTSTART;TZID=America/Chicago:20271020T120000
DTEND;TZID=America/Chicago:20271020T130000
DTSTAMP:20260420T072921
CREATED:20241230T173252Z
LAST-MODIFIED:20241230T173252Z
UID:16522-1824033600-1824037200@medisysinc.com
SUMMARY:HLA Meeting\, Opelika AL
DESCRIPTION:
URL:https://medisysinc.com/event/hla-meeting-opelika-al/2027-10-20/
LOCATION:Saugahatchee Country Club\, 3800 Bent Creek Rd\, Opelika\, AL\, 36804\, United States
CATEGORIES:Industry Events
END:VEVENT
BEGIN:VEVENT
DTSTART;TZID=America/Chicago:20271117T120000
DTEND;TZID=America/Chicago:20271117T130000
DTSTAMP:20260420T072921
CREATED:20241230T173252Z
LAST-MODIFIED:20241230T173252Z
UID:16581-1826452800-1826456400@medisysinc.com
SUMMARY:HLA Meeting\, Opelika AL
DESCRIPTION:
URL:https://medisysinc.com/event/hla-meeting-opelika-al/2027-11-17/
LOCATION:Saugahatchee Country Club\, 3800 Bent Creek Rd\, Opelika\, AL\, 36804\, United States
CATEGORIES:Industry Events
END:VEVENT
BEGIN:VEVENT
DTSTART;TZID=America/Chicago:20280119T120000
DTEND;TZID=America/Chicago:20280119T130000
DTSTAMP:20260420T072921
CREATED:20241230T173252Z
LAST-MODIFIED:20241230T173252Z
UID:16699-1831896000-1831899600@medisysinc.com
SUMMARY:HLA Meeting\, Opelika AL
DESCRIPTION:
URL:https://medisysinc.com/event/hla-meeting-opelika-al/2028-01-19/
LOCATION:Saugahatchee Country Club\, 3800 Bent Creek Rd\, Opelika\, AL\, 36804\, United States
CATEGORIES:Industry Events
END:VEVENT
BEGIN:VEVENT
DTSTART;TZID=America/Chicago:20280216T120000
DTEND;TZID=America/Chicago:20280216T130000
DTSTAMP:20260420T072921
CREATED:20241230T173252Z
LAST-MODIFIED:20241230T173252Z
UID:16761-1834315200-1834318800@medisysinc.com
SUMMARY:HLA Meeting\, Opelika AL
DESCRIPTION:
URL:https://medisysinc.com/event/hla-meeting-opelika-al/2028-02-16/
LOCATION:Saugahatchee Country Club\, 3800 Bent Creek Rd\, Opelika\, AL\, 36804\, United States
CATEGORIES:Industry Events
END:VEVENT
END:VCALENDAR